BEGIN:VCALENDAR
VERSION:2.0
PRODID:-//ChamberMaster//Event Calendar 2.0//EN
METHOD:PUBLISH
X-PUBLISHED-TTL:P1H
REFRESH-INTERVAL:P1H
CALSCALE:GREGORIAN
BEGIN:VTIMEZONE
TZID:America/New_York
BEGIN:DAYLIGHT
RRULE:FREQ=YEARLY;BYMONTH=3;BYDAY=2SU
DTSTART:20070101T000000
TZOFFSETFROM:-0500
TZOFFSETTO:-0400
TZNAME:Eastern Daylight Time
END:DAYLIGHT
BEGIN:STANDARD
RRULE:FREQ=YEARLY;BYMONTH=11;BYDAY=1SU
DTSTART:20070101T000000
TZOFFSETFROM:-0400
TZOFFSETTO:-0500
TZNAME:Eastern Standard Time
END:STANDARD
END:VTIMEZONE
BEGIN:VEVENT
DTSTART;TZID=America/New_York:20261106T130000
DTEND;TZID=America/New_York:20261106T140000
X-MICROSOFT-CDO-ALLDAYEVENT:FALSE
SUMMARY:Addiction Toxicology Case Conference - November 2026
DESCRIPTION:The ACMT/ASAM Addiction Toxicology Case Conference webinar series discusses Addiction/Toxicology cases in an interactive fashion featuring experts from Addiction Medicine\, Addiction Psychiatry\, and Medical Toxicology.
X-ALT-DESC;FMTTYPE=text/html:The ACMT/ASAM Addiction Toxicology Case Conference webinar series discusses Addiction/Toxicology cases in an interactive fashion featuring experts from Addiction Medicine\, Addiction Psychiatry\, and Medical Toxicology.
LOCATION:
UID:e.4594.1423718
SEQUENCE:3
DTSTAMP:20260423T194331Z
URL:https://americancollegeofmedicaltoxicology.growthzoneapp.com/eventcalendar/Details/addiction-toxicology-case-conference-november-2026-1683387?sourceTypeId=Hub
END:VEVENT
END:VCALENDAR
