BEGIN:VCALENDAR
VERSION:2.0
PRODID:-//ChamberMaster//Event Calendar 2.0//EN
METHOD:PUBLISH
X-PUBLISHED-TTL:P1H
REFRESH-INTERVAL:P1H
CALSCALE:GREGORIAN
BEGIN:VTIMEZONE
TZID:America/New_York
BEGIN:DAYLIGHT
RRULE:FREQ=YEARLY;BYMONTH=3;BYDAY=2SU
DTSTART:20070101T000000
TZOFFSETFROM:-0500
TZOFFSETTO:-0400
TZNAME:Eastern Daylight Time
END:DAYLIGHT
BEGIN:STANDARD
RRULE:FREQ=YEARLY;BYMONTH=11;BYDAY=1SU
DTSTART:20070101T000000
TZOFFSETFROM:-0400
TZOFFSETTO:-0500
TZNAME:Eastern Standard Time
END:STANDARD
END:VTIMEZONE
BEGIN:VEVENT
DTSTART;VALUE=DATE:20260601
DTEND;VALUE=DATE:20260602
TRANSP:TRANSPARENT
X-MICROSOFT-CDO-ALLDAYEVENT:TRUE
SUMMARY:Deadline- ACMT at #NACCT2026 27th CPC Presentation Competition
DESCRIPTION:ACMT announces the 27th Clinical Pathological Case (CPC) Presentation Competition in association with the 2025 North American Congress of Clinical Toxicology (NACCT).\n\nACMT invites you to submit challenging poisoning cases for the 26th CPC competition. Submissions should be prepared as unknown cases for another CPC participant to solve. In return\, you will receive a similarly complex case to present a differential diagnosis\, educate the audience\, and\, ideally\, solve. An ACMT educational sub-committee will select the top three submissions for the competition.\n\nWe welcome submissions from outside Toxicology Fellowship programs. Cases can be submitted by any academic toxicology mentor/mentee team\, provided the senior member (CPC Discussant) is an ACMT Member with an academic supervisory role. The senior member should be an Attending Physician in a Toxicology Fellowship or a related Residency program\, while the junior member (CPC Presenter) can be a Fellow\, Resident\, or healthcare colleague. Junior members are often from Tox\, EM\, Peds\, Occ Med\, or Pharm\, but can come from any specialty\, as long as they are submitting a toxicology-related case with an ACMT Member.\n\nFor questions about the CPC or to determine if your case is a good fit\, please contact Dr. Jeff Suchard at jsuchard@hs.uci.edu.
X-ALT-DESC;FMTTYPE=text/html:ACMT announces the 27th Clinical Pathological Case (CPC) Presentation Competition in association with the 2025 North American Congress of Clinical Toxicology (NACCT).\n\nACMT invites you to submit challenging poisoning cases for the 26th CPC competition. Submissions should be prepared as unknown cases for another CPC participant to solve. In return\, you will receive a similarly complex case to present a differential diagnosis\, educate the audience\, and\, ideally\, solve. An ACMT educational sub-committee will select the top three submissions for the competition.\n\nWe welcome submissions from outside Toxicology Fellowship programs. Cases can be submitted by any academic toxicology mentor/mentee team\, provided the senior member (CPC Discussant) is an ACMT Member with an academic supervisory role. The senior member should be an Attending Physician in a Toxicology Fellowship or a related Residency program\, while the junior member (CPC Presenter) can be a Fellow\, Resident\, or healthcare colleague. Junior members are often from Tox\, EM\, Peds\, Occ Med\, or Pharm\, but can come from any specialty\, as long as they are submitting a toxicology-related case with an ACMT Member.\n\nFor questions about the CPC or to determine if your case is a good fit\, please contact Dr. Jeff Suchard at jsuchard@hs.uci.edu.
LOCATION:
UID:e.4594.1443247
SEQUENCE:3
DTSTAMP:20260423T194337Z
URL:https://americancollegeofmedicaltoxicology.growthzoneapp.com/eventcalendar/Details/deadline-acmt-at-nacct2026-27th-cpc-presentation-competition-1709450?sourceTypeId=Hub
END:VEVENT
END:VCALENDAR
