BEGIN:VCALENDAR
VERSION:2.0
PRODID:-//ChamberMaster//Event Calendar 2.0//EN
METHOD:PUBLISH
X-PUBLISHED-TTL:P1H
REFRESH-INTERVAL:P1H
CALSCALE:GREGORIAN
BEGIN:VTIMEZONE
TZID:America/New_York
BEGIN:DAYLIGHT
RRULE:FREQ=YEARLY;BYMONTH=3;BYDAY=2SU
DTSTART:20070101T000000
TZOFFSETFROM:-0500
TZOFFSETTO:-0400
TZNAME:Eastern Daylight Time
END:DAYLIGHT
BEGIN:STANDARD
RRULE:FREQ=YEARLY;BYMONTH=11;BYDAY=1SU
DTSTART:20070101T000000
TZOFFSETFROM:-0400
TZOFFSETTO:-0500
TZNAME:Eastern Standard Time
END:STANDARD
END:VTIMEZONE
BEGIN:VEVENT
DTSTART;TZID=America/New_York:20260519T140000
DTEND;TZID=America/New_York:20260519T150000
X-MICROSOFT-CDO-ALLDAYEVENT:FALSE
SUMMARY:Medical Toxicology in Industry Webinar- Dietary Exposures & Risk Assessment
DESCRIPTION:Join ACMT on Tuesday\, May 19\, at 2:00pm ET\, for a Bayer-sponsored Medical Toxicology in Industry webinar featuring S. Eliza Lockwood\, MD\, DFACMT\, and Medical Affairs Lead\, Senior Science Fellow\, Bayer U.S. Crop Science. Dr. Lockwood will be presenting on Dietary Exposures & Risk Assessment. This session will explore how dietary exposures are evaluated\, the science behind risk assessment\, and practical considerations for clinicians and toxicologists. Attendees will gain valuable insights into interpreting exposure data and applying risk-based frameworks in clinical practice. Don’t miss this opportunity to learn more about this timely and relevant topic. The webinar is free and open to all.
X-ALT-DESC;FMTTYPE=text/html:Join ACMT on Tuesday\, May 19\, at 2:00pm ET\, for a Bayer-sponsored Medical Toxicology in Industry webinar featuring S. Eliza Lockwood\, MD\, DFACMT\, and Medical Affairs Lead\, Senior Science Fellow\, Bayer U.S. Crop Science. Dr. Lockwood will be presenting on Dietary Exposures & Risk Assessment. This session will explore how dietary exposures are evaluated\, the science behind risk assessment\, and practical considerations for clinicians and toxicologists. Attendees will gain valuable insights into interpreting exposure data and applying risk-based frameworks in clinical practice. Don’t miss this opportunity to learn more about this timely and relevant topic. The webinar is free and open to all.
LOCATION:
UID:e.4594.1447282
SEQUENCE:3
DTSTAMP:20260423T194350Z
URL:https://americancollegeofmedicaltoxicology.growthzoneapp.com/eventcalendar/Details/medical-toxicology-in-industry-webinar-dietary-exposures-risk-assessment-1714143?sourceTypeId=Hub
END:VEVENT
END:VCALENDAR
