BEGIN:VCALENDAR
VERSION:2.0
PRODID:-//ChamberMaster//Event Calendar 2.0//EN
METHOD:PUBLISH
X-PUBLISHED-TTL:P1H
REFRESH-INTERVAL:P1H
CALSCALE:GREGORIAN
BEGIN:VTIMEZONE
TZID:America/New_York
BEGIN:DAYLIGHT
RRULE:FREQ=YEARLY;BYMONTH=3;BYDAY=2SU
DTSTART:20070101T000000
TZOFFSETFROM:-0500
TZOFFSETTO:-0400
TZNAME:Eastern Daylight Time
END:DAYLIGHT
BEGIN:STANDARD
RRULE:FREQ=YEARLY;BYMONTH=11;BYDAY=1SU
DTSTART:20070101T000000
TZOFFSETFROM:-0400
TZOFFSETTO:-0500
TZNAME:Eastern Standard Time
END:STANDARD
END:VTIMEZONE
BEGIN:VEVENT
DTSTART;TZID=America/New_York:20260811T120000
DTEND;TZID=America/New_York:20260811T130000
X-MICROSOFT-CDO-ALLDAYEVENT:FALSE
SUMMARY:National Grand Rounds - August 2026
DESCRIPTION:ACMT's Grand Rounds offer an in-depth and interactive platform for learning and discussion about issues that impact the research and practice of medical toxicology. Experts from within and outside medical toxicology will share their knowledge and experience and highlight areas for collaboration and mutual understanding.
X-ALT-DESC;FMTTYPE=text/html:ACMT's Grand Rounds offer an in-depth and interactive platform for learning and discussion about issues that impact the research and practice of medical toxicology. Experts from within and outside medical toxicology will share their knowledge and experience and highlight areas for collaboration and mutual understanding.
LOCATION:
UID:e.4594.1423667
SEQUENCE:3
DTSTAMP:20260423T194336Z
URL:https://americancollegeofmedicaltoxicology.growthzoneapp.com/eventcalendar/Details/national-grand-rounds-august-2026-1683336?sourceTypeId=Hub
END:VEVENT
END:VCALENDAR
