BEGIN:VCALENDAR
VERSION:2.0
PRODID:-//ChamberMaster//Event Calendar 2.0//EN
METHOD:PUBLISH
X-PUBLISHED-TTL:P1H
REFRESH-INTERVAL:P1H
CALSCALE:GREGORIAN
BEGIN:VTIMEZONE
TZID:America/New_York
BEGIN:DAYLIGHT
RRULE:FREQ=YEARLY;BYMONTH=3;BYDAY=2SU
DTSTART:20070101T000000
TZOFFSETFROM:-0500
TZOFFSETTO:-0400
TZNAME:Eastern Daylight Time
END:DAYLIGHT
BEGIN:STANDARD
RRULE:FREQ=YEARLY;BYMONTH=11;BYDAY=1SU
DTSTART:20070101T000000
TZOFFSETFROM:-0400
TZOFFSETTO:-0500
TZNAME:Eastern Standard Time
END:STANDARD
END:VTIMEZONE
BEGIN:VEVENT
DTSTART;TZID=America/New_York:20260420T140000
DTEND;TZID=America/New_York:20260420T150000
X-MICROSOFT-CDO-ALLDAYEVENT:FALSE
SUMMARY:Toxicology on Trial: Mastering Expert Testimony Under Federal Rule of Evidence 702
DESCRIPTION:How does Federal Rule of Evidence 702 shape the way medical toxicologists show up in the courtroom? This dynamic webinar brings together leading voices in medical toxicology and law to unpack what it takes to deliver credible\, admissible\, and impactful expert testimony.Through real-world examples and practical guidance\, the panel will explore how courts evaluate scientific reliability\, what strengthens or weakens expert opinions\, and how toxicologists can confidently navigate depositions and cross-examination. Whether you're an experienced expert witness or new to the legal arena\, this session offers actionable insights you can immediately apply.Designed for medical toxicologists\, attorneys\, and professionals working at the intersection of science and law\, this conversation will leave you better prepared to meet the demands of today's evidentiary standards.
X-ALT-DESC;FMTTYPE=text/html:<!DOCTYPE html><html><head><title></title></head><body aria-disabled="false"><p dir="ltr" style="line-height:1.38\;margin-top:12pt\;margin-bottom:12pt\;"><span style="font-size:12pt\;font-family:Roboto\,sans-serif\;color:#000000\;background-color:transparent\;font-weight:400\;font-style:normal\;font-variant:normal\;text-decoration:none\;vertical-align:baseline\;white-space:pre\;white-space:pre-wrap\;">How does Federal Rule of Evidence 702 shape the way medical toxicologists show up in the courtroom? This dynamic webinar brings together leading voices in medical toxicology and law to unpack what it takes to deliver credible\, admissible\, and impactful expert testimony.</span></p><p dir="ltr" style="line-height:1.38\;margin-top:12pt\;margin-bottom:12pt\;"><span style="font-size:12pt\;font-family:Roboto\,sans-serif\;color:#000000\;background-color:transparent\;font-weight:400\;font-style:normal\;font-variant:normal\;text-decoration:none\;vertical-align:baseline\;white-space:pre\;white-space:pre-wrap\;">Through real-world examples and practical guidance\, the panel will explore how courts evaluate scientific reliability\, what strengthens or weakens expert opinions\, and how toxicologists can confidently navigate depositions and cross-examination. Whether you&rsquo\;re an experienced expert witness or new to the legal arena\, this session offers actionable insights you can immediately apply.</span></p><p dir="ltr" style="line-height:1.38\;margin-top:12pt\;margin-bottom:12pt\;"><span style="font-size:12pt\;font-family:Roboto\,sans-serif\;color:#000000\;background-color:transparent\;font-weight:400\;font-style:normal\;font-variant:normal\;text-decoration:none\;vertical-align:baseline\;white-space:pre\;white-space:pre-wrap\;">Designed for medical toxicologists\, attorneys\, and professionals working at the intersection of science and law\, this conversation will leave you better prepared to meet the demands of today&rsquo\;s evidentiary standards.</span></p></body></html>
LOCATION:
UID:e.4594.1440299
SEQUENCE:3
DTSTAMP:20260423T194349Z
URL:https://americancollegeofmedicaltoxicology.growthzoneapp.com/eventcalendar/Details/toxicology-on-trial-mastering-expert-testimony-under-federal-rule-of-evidence-702-1704989?sourceTypeId=Hub
END:VEVENT
END:VCALENDAR
